BEGIN:VCALENDAR
VERSION:2.0
PRODID:-//wp-events-plugin.com//7.2.3.1//EN
TZID:Europe/Bucharest
X-WR-TIMEZONE:Europe/Bucharest
BEGIN:VEVENT
UID:15@primariaghiroda.ro
DTSTART;TZID=Europe/Bucharest;VALUE=DATE:20241012
DTEND;TZID=Europe/Bucharest;VALUE=DATE:20241014
DTSTAMP:20240925T163516Z
URL:https://primariaghiroda.ro/evenimente/cupa-romaniei-la-dans-sportiv-20
 24-ghiroda-dance-festival-editia-ii/
SUMMARY:Cupa României la Dans Sportiv 2024 | Ghiroda Dance Festival - Edi
 ția II
DESCRIPTION:În mai puțin de trei săptămâni\, cele mai bune perechi de 
 dansatori din România vor umple ringul de dans\, de la Hotel Senator\, cu
  multă eleganță și pasiune!\n𝐀𝐂𝐂𝐄𝐒\n\n\n 	️Accesul pu
 blicului se face prin achiziționarea de bilete la intrarea în sala Expov
 est din cadrul Complexului Senator sau online: https://www.kompostor.ro/ev
 enimente/13148-cupa-romniei-la-dans-sportiv-ghiroda-dance-festival-\n 	Pre
 țul unui bilet în tribună este de 𝟓𝟎 𝐑𝐎𝐍.\n 	️Prețu
 l unui loc la masă\, aflat lângă ringul de dans\, este de 𝟏𝟎𝟎 
 𝐑𝐎𝐍. Locurile la masă se ocupă prin rezervare la adresa comuni
 care@cscghiroda.ro\n 	️Antrenorii cu taxa Federaţiei plătită vor avea
  acces gratuit în tribună pe baza tabelului de la intrare.\n\nVă aștep
 tăm să luați parte la regalul dansurilor latino și standard!\n*Proiect
  co-finanțat de Consiliul Județean Timiș.
ATTACH;FMTTYPE=image/jpeg:https://primariaghiroda.ro/wp-content/uploads/20
 24/09/Afis-cupa-romaniei-la-dans-2024.jpeg
END:VEVENT
BEGIN:VTIMEZONE
TZID:Europe/Bucharest
X-LIC-LOCATION:Europe/Bucharest
BEGIN:DAYLIGHT
DTSTART:20240331T040000
TZOFFSETFROM:+0200
TZOFFSETTO:+0300
TZNAME:EEST
END:DAYLIGHT
END:VTIMEZONE
END:VCALENDAR