BEGIN:VCALENDAR
VERSION:2.0
PRODID:-//wp-events-plugin.com//7.2.3.1//EN
TZID:Europe/Bucharest
X-WR-TIMEZONE:Europe/Bucharest
BEGIN:VEVENT
UID:18@primariaghiroda.ro
DTSTART;TZID=Europe/Bucharest;VALUE=DATE:20250108
DTEND;TZID=Europe/Bucharest;VALUE=DATE:20250118
DTSTAMP:20250106T093257Z
URL:https://primariaghiroda.ro/evenimente/campanie-colectare-brazi-natural
 i/
SUMMARY:Campanie colectare brazi naturali
DESCRIPTION:Text: ️Dacă ați avut brad natural și nu știți unde să 
 îl duceți\, vă ajută Primăria Ghiroda!\nColectarea brazilor naturali 
 va avea loc în perioada 8-17 ianuarie 2025\, în Ghiroda și Giarmata Vii
 .\nBrazii se lasă în fața imobilului\, pe domeniul public. Vă rugăm s
 ă vă asigurați că nu blochează accesul la contoare de gaz\, cămine d
 e apă sau tomberoane.\nColectarea\, tocarea\, precum și transportul vor 
 fi efectuate de către ADP Ghiroda.
ATTACH;FMTTYPE=image/jpeg:https://primariaghiroda.ro/wp-content/uploads/20
 25/01/COLECTAREA-BRAZILOR-NATURALI-2025.png
END:VEVENT
BEGIN:VTIMEZONE
TZID:Europe/Bucharest
X-LIC-LOCATION:Europe/Bucharest
BEGIN:STANDARD
DTSTART:20241027T030000
TZOFFSETFROM:+0300
TZOFFSETTO:+0200
TZNAME:EET
END:STANDARD
END:VTIMEZONE
END:VCALENDAR